BEGIN:VCALENDAR
VERSION:2.0
PRODID:-//CONSEG Morumbi - ECPv6.15.17.1//NONSGML v1.0//EN
CALSCALE:GREGORIAN
METHOD:PUBLISH
X-WR-CALNAME:CONSEG Morumbi
X-ORIGINAL-URL:https://consegmorumbi.com.br
X-WR-CALDESC:Eventos para CONSEG Morumbi
REFRESH-INTERVAL;VALUE=DURATION:PT1H
X-Robots-Tag:noindex
X-PUBLISHED-TTL:PT1H
BEGIN:VTIMEZONE
TZID:America/Sao_Paulo
BEGIN:STANDARD
TZOFFSETFROM:-0300
TZOFFSETTO:-0300
TZNAME:-03
DTSTART:20230101T000000
END:STANDARD
END:VTIMEZONE
BEGIN:VEVENT
DTSTART;TZID=America/Sao_Paulo:20241001T190000
DTEND;TZID=America/Sao_Paulo:20241001T210000
DTSTAMP:20260423T040022
CREATED:20241001T125919Z
LAST-MODIFIED:20241222T231345Z
UID:620-1727809200-1727816400@consegmorumbi.com.br
SUMMARY:REUNIÃO DIRETORIA - OUT/24
DESCRIPTION:Reunião com foco na gestão e na organização interna do Conselho Comunitário de Segurança. Essas reuniões são realizadas entre os membros da diretoria do CONSEG\, que são eleitos ou nomeados para ocupar cargos de liderança dentro do conselho. \nNas reuniões de diretoria\, são tratados assuntos como: \n\nPlanejamento Estratégico – Definir e revisar as estratégias e objetivos do CONSEG\, alinhando-os às necessidades da comunidade e às diretrizes da Secretaria da Segurança Pública.\nOrganização de Eventos e Atividades – Planejar e coordenar eventos\, reuniões plenárias\, campanhas educativas e outras iniciativas promovidas pelo CONSEG.\nGestão Administrativa – Discutir questões operacionais\, administrativas e financeiras do conselho\, como orçamentos\, recursos\, logística e comunicação.\nIntegração com Outras Entidades – Estabelecer e manter relações com autoridades policiais\, órgãos governamentais e outras organizações relevantes para a segurança comunitária.\nPreparação para Reuniões Plenárias – Organizar a agenda\, os temas e os palestrantes para as reuniões plenárias\, garantindo que sejam produtivas e atendam às expectativas da comunidade.\n\nAs reuniões de diretoria são cruciais para o bom funcionamento do CONSEG\, assegurando que o conselho opere de maneira eficiente e eficaz\, e esteja bem posicionado para atender às necessidades de segurança da comunidade que representa.
URL:https://consegmorumbi.com.br/calendario/reuniao-diretoria-out-24/
LOCATION:CONSEG MORUMBI\, Rua Corgie Assad Abdala\, 237\, São Paulo\, SP\, 05622-010\, Brasil
CATEGORIES:Reunião de Diretoria
END:VEVENT
END:VCALENDAR